BEGIN:VCALENDAR
VERSION:2.0
PRODID:icalendar-ruby
CALSCALE:GREGORIAN
BEGIN:VEVENT
DTSTAMP:20260421T140037Z
UID:df1e38c5-6744-4297-9767-f08f0f80e6a0
DTSTART:20260501T110000
DTEND:20260501T170000
DESCRIPTION:GROßER FLOHMARKT     GLOBUS BAUMARKT   Völklingen\n \n
 Es ist wieder so weit\, der Startschuß für unseren größten Flohmarkt i
 m Saarland ist gefallen.\nWir freuen uns auch dieses Jahr wieder auf zahlr
 eichen Zulauf an neuen Händlern und natürlich auf unsere neuen so wie al
 ten Kunden.\n \nVERANSTALTER\nMarktveranstaltungen Schreier\nEiweilerstra
 ße 1\n66793 Saarwellingen\nTel. 06838/85222        \nInfo@mv-schreier
 .de                                  \nww
 w.mv-schreier.de\nSchauen Sie auf unserer Webseite nach aktuellen Terminen
  und wöchentlichen Flohmarktveranstaltungen
LOCATION:Zechenstraße 8 66333 
SUMMARY:***GROßER FLOHMARKT***  Völklingen Fürstenhausen GLOBUS BAUMARKT
END:VEVENT
END:VCALENDAR
