BEGIN:VCALENDAR
VERSION:2.0
PRODID:icalendar-ruby
CALSCALE:GREGORIAN
BEGIN:VEVENT
DTSTAMP:20260421T125426Z
UID:abd861f5-21ba-4d8f-9eb5-9dd93e6432fe
DTSTART:20261107T170000
DTEND:20261107T210000
DESCRIPTION:Diverse Handwerkskunst aus Beton\, Gips\, Filz\, Schmuck uvm.\n
 Herbstliche Köstlichkeiten wie Kürbissuppe\, Apfel- und Kürbiswaffeln\,
  Rote Wurst\, Mostdudler und andere Getränke
LOCATION:Maurenweg 9 72108 
SUMMARY:Herbstmärktle in Eckenweiler
END:VEVENT
END:VCALENDAR
