BEGIN:VCALENDAR
VERSION:2.0
PRODID:icalendar-ruby
CALSCALE:GREGORIAN
BEGIN:VEVENT
DTSTAMP:20260424T060554Z
UID:18f2eb42-bc65-4e74-abb3-8749430ad279
DTSTART:20260525T090000
DTEND:20260525T170000
DESCRIPTION:"Antik- &amp\; Trödelmarkt" 23.-25.Mai 2026 ... PFINGSTEN 3 Ta
 ge SA/SO/MO jeweils 9-17 Uhr  Eintritt FREI !\nTrödelmarkt auf dem Klein
 messeplatz in Leipzig - OpenAir (Anschrift : Cottaweg 4\, 04177 Leipzig)\n
 Handy: 0177/7994791 nur Whatsapp oder eMail: info@dacapo-agentur.de\n \nE
 INTRITT Frei !!!!\nHändleranmeldungen bitte nur schriftlich : vollständi
 ger Name\, Vorname\, Anschrift\, Handynr. (Strom ja/nein?)\nAnmeldungen wi
 e : "Trödel-Bär" oder "Floh-Hexe" werden in Zukunft nicht registriert!\n
 Händlerstandgeld : 1m = 10\,00 € pro Tag (keine Neuware...nur Gebraucht
 es!) (Mindeststandgröße : 3m)\nAuto/Anhänger/Wohnwagen usw. immer direk
 t am Stand. Standtiefe immer 7m inkl. Fahrzeug.\nMarktzeit 9-17 Uhr muss a
 n beiden Tagen vollständig eingehalten werden\, Früheinpacker unerwünsc
 ht!\nAufbauzeiten: bereits schon am Freitag ab 15.00 - 18.00 Uhr \, Samsta
 g/Sonntag jeweils ab 6.00 - 8.00 Uhr.\nAchtung ! Bestellungen und Stornier
 ungen sind auch bei uns\, und wie bei anderen Veranstaltern immer kostenpf
 lichtig. Daher bitte immer erst dann anmelden\, wenn Sie zu 100% wissen\, 
 dass Sie auch wirklich teilnehmen können. Ansonsten blockieren Sie nur un
 nötig die Händlerplätze. Ansonsten stellen wir dann das Standgeld sowie
  zzgl. eine Bearbeitungsgebühr von 10\,00 € in Rechnung.\nFür das leib
 liche Wohl wird mit einem umfangreichen Angebot gesorgt.\nÜbernachtungen 
 sind im Fahrzeug auf dem Parkplatz möglich.Kostenfreie Besucher-Parkplät
 ze sind in unmittelbarer Nähe vorhanden.\nParken für Besucher = 5\,00 
 € !\nStromanschluss bei Bedarf bitte immer vorher anmelden\, da nur begr
 enzt vorhanden! Gebühr : pro Tag = 10\,00 €\nWaren/Stände können im z
 ugedeckten Zustand über Nacht vor Ort verbleiben. Gelände ist rundherum 
 abgeschlossen und durch Wachschutz bewacht. Wir verfügen über eine kompl
 ette Flutlichtanlage. Das gibt es nur bei uns ! Wir übernehmen als Verans
 talter jedoch keine Haftung für Händler-Stände/Waren zb. durch eventuel
 le Wetter-Schäden .\nEs gilt die Markt- und Platzordnung 2026!\nKontakt:\
 ninfo@dacapo-agentur.de \, www.dacapo-agentur.de \,  Whatsapp : 0177/7994
 791
LOCATION:Cottaweg 4 04177 Alt-West
SUMMARY:"Antik- &amp\; Trödelmarkt" Leipzig\, Cottaweg\, "Kleinmesseplatz"
   Pfingsten 23.-25.Mai 2026 - 3 Tage
END:VEVENT
END:VCALENDAR
