BEGIN:VCALENDAR
VERSION:2.0
PRODID:icalendar-ruby
CALSCALE:GREGORIAN
BEGIN:VEVENT
DTSTAMP:20260423T234354Z
UID:9fe0e9d1-3563-4ad1-8ba2-ea283ee51c24
DTSTART:20260607T080000
DTEND:20260607T160000
DESCRIPTION:Riesenflohmarkt auf dem Parkplatz der Firma OBI in Erlangen.\nD
 ieser Platz befindet sich direkt an der Neumühle 1 in 91056 Erlangen.\nKo
 mplett asphaltiert - hier ist immer der Teufel los. Gute Umsätze sind hie
 r üblich.\nErreichbar mit:\nüber die Erlanger Straße B4 Richtung Alterl
 angen\nAutobahnausfahrt A73 Erlangen BruckOnlinereservierung unter www.tro
 edelteam-graage.de empfohlen oderam Vortag von 20 bis 21 Uhr direkt am Pla
 tzoder Sonntag früh ab 8 Uhr kommen!\nTrödel: 6 Meter mit Auto oder Anh
 änger 35\,00€\nSie möchten einen kleinen Stand:Je Meter Trödel 5\,00
 €\nGrundgebühr an Sonntags und Feiertagsmärkten pro Stand: 3 Euro\nTer
 mindaueransage: 0911 - 32 96 23Bei weiteren Fragen erreichen Sie uns unter
 Thomas: 0175 - 20 80 762 oder Dani: 0175 - 24 68 169 oder Lilli: 0171 - 79
  41 826\nJetzt gleich Platz sichern!Onlinereservierung unter:www.troedelte
 am-graage.de / Onlinereservierung\nLasst uns doch bitte unter https://www.
 facebook.com/troedelteam.graage/ Euer Like da.
LOCATION:Neumühle 1 91056 Alterlangen
SUMMARY:Riesenflohmarkt Parkplatz OBI Baumarkt in Erlangen West
END:VEVENT
END:VCALENDAR
