BEGIN:VCALENDAR
VERSION:2.0
PRODID:icalendar-ruby
CALSCALE:GREGORIAN
BEGIN:VEVENT
DTSTAMP:20260420T074635Z
UID:80de581b-a5a3-4b82-858d-3223bbb668c6
DTSTART:20261027T090000
DTEND:20261027T160000
DESCRIPTION:„Kunsthandwerk trifft Wochenmarkt“ in Wunstorf am 17. März
  &amp\; 27. Oktober 2026\nAm Dienstag\, den 17. März 2026\, sowie am Dien
 stag\, den 27. Oktober 2026\, verwandelt sich die Fußgängerzone in Wunst
 orf erneut in einen Treffpunkt für kreative Handwerkskunst: Unter dem Mot
 to „Kunsthandwerk trifft Wochenmarkt“ präsentieren Kunsthandwerkerinn
 en und Kunsthandwerker von 9 bis 16 Uhr ihre handgefertigten Arbeiten – 
 eingebettet in das lebendige Treiben des Wochenmarktes.\nBesucherinnen und
  Besucher können sich auf eine Auswahl an liebevoll gestalteten Unikaten 
 freuen. Viele der angebotenen Stücke entstehen in aufwendiger Handarbeit 
 und sind echte Einzelstücke. Damit bietet der Markt eine besondere Gelege
 nheit\, außergewöhnliche Geschenke zu entdecken oder sich selbst mit etw
 as Besonderem zu beschenken.\nDie Kombination aus traditionellem Wochenmar
 kt und kreativem Kunsthandwerk sorgt für eine besondere Atmosphäre in de
 r Innenstadt. Zwischen frischen Lebensmitteln\, regionalen Spezialitäten 
 und den Kunsthandwerksständen entsteht ein abwechslungsreiches Markterleb
 nis\, das zum Bummeln\, Entdecken und Verweilen einlädt.\nOrganisiert wir
 d die Veranstaltung von der Deutsche Marktgilde\, die den Wochenmarkt in W
 unstorf betreut und regelmäßig besondere Aktionstage veranstaltet.\n„D
 er Kunsthandwerkermarkt ist eine schöne Ergänzung zum Wochenmarkt und br
 ingt zusätzliche kreative Vielfalt in die Innenstadt“\, sagt Alex Wolf.
  „Wir freuen uns\, wenn viele Besucherinnen und Besucher die Gelegenheit
  nutzen\, durch die Stände zu schlendern und die handgefertigten Arbeiten
  zu entdecken.“\nMit einem eigenen Stand dabei sein: Die Anmeldung ist u
 nkompliziert - Interessierte können sich direkt bei der Niederlassung Han
 nover unter Telefon 02774 9143-300 oder per E-Mail an hannover@marktgilde.
 de melden. Bewerbungen sind sowohl für einen als auch für beide Termine 
 möglich.\nAbseits des Kunsthandwerkermarktes lädt der bunte Wochenmarkt 
 Wunstorfs jeden Dienstag von 9 bis 16 Uhr sowie jeden Freitag von 8 bis 13
  Uhr in der Fußgängerzone zum Einkaufen\, Plaudern und Genießen ein. We
 itere Informationen zum Wochenmarkt und zu anstehenden Aktionen finden Sie
  auch jederzeit unter wunstorf.treffpunkt-wochenmarkt.de oder auf Instagra
 m unter treffpunkt_wochenmarkt.\n 
LOCATION:Lange Straße 3 31515 
SUMMARY:Kunsthandwerk trifft Wochenmarkt
END:VEVENT
END:VCALENDAR
