BEGIN:VCALENDAR
VERSION:2.0
PRODID:icalendar-ruby
CALSCALE:GREGORIAN
BEGIN:VEVENT
DTSTAMP:20260420T171645Z
UID:95a1e35b-152e-4ddf-9297-3892af9c5bbe
DTSTART:20261018T110000
DTEND:20261018T180000
DESCRIPTION:Ab 6 Uhr ist Platzvergabe und es kann aufgebaut werden.Der Verk
 auf beginnt um 11 Uhr.\nUnsere Preise:\nlfdm. Trödel 10\,00€ + einmalig
  5\,00€ Grundgebührlfdm. Neuware 15\,00€ + einmalig 10\,00€ Grundge
 bühr\nSonderstände können gerne angefragt werden.\nAlle weiteren Inform
 ationen können Sie per Telefon oder vor Ort erfahren.\nTel.: 0151 / 11 64
 6 999E-Mail: info@vogt-sven.de\nIn Zusammenarbeit mit der Firma Märkte &a
 mp\; Events Jessica Kather\nVeranstalter: Firma Märkte &amp\; Events Jess
 ica Kather
LOCATION:Am Sandthof 20-22 47574 
SUMMARY:Trödelmarkt in Goch\, EDEKA Kusenberg
END:VEVENT
END:VCALENDAR
