BEGIN:VCALENDAR
VERSION:2.0
PRODID:icalendar-ruby
CALSCALE:GREGORIAN
BEGIN:VEVENT
DTSTAMP:20260421T190647Z
UID:e4c759e1-dcb6-43ad-b69f-2e0034017b87
DTSTART:20260523T120000
DTEND:20260523T200000
DESCRIPTION:Der Flohmarkt Stadtfest St. Georg: Das ist der Flohmarkt zum ve
 rmutlich buntesten Stadtfest von Hamburg! In unmittelbare Nähe zum Hambur
 ger Hauptbahnhof\, angebunden an das Stadtfest St. Georg auf der quirligen
  Langen Reihe findet der Flohmarkt beim Stadtfest St Georg immer am letzte
 n vollen Wochenende im Mai statt. Eine tolle Möglichkeit für ein lebendi
 ges\, buntes Flohmarkterlebnis.
LOCATION:Baumeisterstraße 3 20099 Hamburg-Mitte
SUMMARY:Flohmarkt Stadtfest St. Georg
END:VEVENT
END:VCALENDAR
