BEGIN:VCALENDAR
VERSION:2.0
PRODID:icalendar-ruby
CALSCALE:GREGORIAN
BEGIN:VEVENT
DTSTAMP:20260421T153931Z
UID:78f79f5f-5bc4-4925-a625-c9421e5924b0
DTSTART:20270314T110000
DTEND:20270314T180000
DESCRIPTION:Die Messe ART meets ANTIQUE in Lüdenscheid (by Detlev Kümmel)
  ist ein Highlight für Liebhaber von Kunst und Antiquitäten. Als Experte
  der beliebten TV-Sendung Bares für Rares bringt Detlev Kümmel seine Exp
 ertise und Leidenschaft für hochwertige Stücke direkt in die Ausstellung
 . Das erwartet Sie bei der ART meets ANTIQUE Messe Lüdenscheid: Vielfält
 ige Exponate - Entdecken Sie Kunst und Antiquitäten aus vier Jahrhunderte
 n und verschiedenen Kulturen weltweit. Exklusive Aussteller - handverlesen
 e Händler aus Deutschland\, den Niederlanden\, Belgien\, der Schweiz\, Ö
 sterreich und Frankreich präsentieren auf der Kunstmesse ihre besten Stü
 cke. Einzigartiges Ambiente - Die Antiquitätenmesse findet in der bezaube
 rnden Location in Lüdenscheid statt – ein idealer Rahmen für diese hoc
 hwertige Ausstellung. Markieren Sie sich den Termin der ART meets ANTIQUE 
 in Lüdenscheid im Kalender und lassen Sie sich von der Welt exklusiver Ku
 nst und Antiquitäten verzaubern!\nInformationen: www.art-meets-antique.de
 \nOrt:Historische Schützenhalle Lüdenscheid\nÖffnungszeiten\n \nFreita
 g 20. März: 16.00 - 20.00 Uhr (Eröffnung mit exklusiver Vernissage und S
 ektempfang)Samstag 21. März: 11.00 - 18.00 UhrSonntag 22. März: 11.00 - 
 18.00 Uhr\nEintritt:\nFreitag Vernissage: 15 Euro Samstag und Sonntag: 10
  Euro 
LOCATION:Reckenstraße  58511 
SUMMARY:Art meets Antique\, by Detlev Kümmel
END:VEVENT
END:VCALENDAR
