BEGIN:VCALENDAR
VERSION:2.0
PRODID:icalendar-ruby
CALSCALE:GREGORIAN
BEGIN:VEVENT
DTSTAMP:20260420T153939Z
UID:82079829-8e3e-487d-a63a-54e1e543e1e5
DTSTART:20261025T090000
DTEND:20261025T160000
DESCRIPTION:„Glück ist\, wenn du auf unserem Flohmarkt unter all den vie
 len Dingen das passende Schnäppchen findest“\nAntikmarkt im Saal der Bi
 smarckhöhe\nWegeleitsystem\nStandaufbau am Freitag (Absprache mit Herrn M
 ellin)\nParkplätze vorhanden\nToiletten vorhanden \nCatering vor Ort mit
  Sitzplätzen\nHändler - Tische selbst mitbringen oder kostenpflichtig be
 stellen\nInfo und Anmeldung bei Eik Mellin 0172 303 4912 oder unter em.dom
 um@gmail.com  \nEintritt p.P. 2.- €\, Kinder ab 14 Jahre 1.- € 
LOCATION:Hoher Weg 150 14542 
SUMMARY:Antikmarkt Bismarckhöhe
END:VEVENT
END:VCALENDAR
