BEGIN:VCALENDAR
VERSION:2.0
PRODID:icalendar-ruby
CALSCALE:GREGORIAN
BEGIN:VEVENT
DTSTAMP:20260421T080532Z
UID:750e52b3-9462-4271-9746-7d2d58411a7d
DTSTART:20261004T110000
DTEND:20261004T180000
DESCRIPTION:Seit nunmehr über 20 Jahren ist dieser Markt einer der beliebt
 esten Flohmärkte im Oberbergischen Kreis. In der Regel finden Sie eine ge
 lungene Mischung aus Neuware und echtem Trödel. Der Markt findet auf dem 
 ALDI-Parkplatz und auf der gesperrten Alten Ladestraße statt \nNutzen Si
 e die Gelegenheit Dinge die Sie nicht mehr benötigen zu Geld zu machen - 
 oder Sie sind privater (Hobby-)Trödler oder wollen ein solcher werden\, d
 ann sind Sie natürlich auch herzlich willkomen.\nParken BesucherParkplät
 ze für Besucher befinden sich im näheren Umkreis.\nParken Aussteller / P
 KW am StandGenerell können Sie Ihr Fahrzeug quer hinter dem Stand parken 
 sofern die Länge des Fahrzeuges der Standlänge entspricht (z. B. Golf-Gr
 öße ab 4 lfd. Metern / Kombi ab 5 lfd. Metern). Fragen Sie im Zweifel ge
 rne die Marktleitung vor Ort bzw. entnehmen Sie die Länge Ihres Fahrzeuge
 s dem Fahrzeugschein.Standplatzreservierungenüber unser Büro: bis Freita
 g vor dem Markt 12 Uhrvor Ort: Samstag 17 Uhr\, Sonntag ab 7 Uhr\nStandauf
 bauAb 7 Uhr - jedoch nicht vor Eintreffen der Marktleitung (erkennbar an d
 er gelben Weste / rotes T-Shirt bzw. Pullover)\nVerkaufszeit11 bis 18 Uhr\
 , Abbau ab 16 Uhr möglich\nStandmietenGrundgebühr / Stand: 5€lfd. Mete
 r Trödel 12€lfd. Meter Neuware 20€lfd. Meter Textil / Lederwaren / We
 rkzeug 22€Eckplatzzuschlag: 20€Reinigungskaution: 5€ (bei sauberem V
 erlassen zurück)\nPreise ohne Gewähr\, aktuelle Preise finden Sie auf un
 serer Homepage. \n \nWeitere Infos auf unserer Homepage www.rieder-maerk
 te.de (einfach unten auf "Homepage des Veranstalters" klicken). \n 
LOCATION:Alte Ladestraße  42499 
SUMMARY:Hückeswagen ALDI &amp\; Alte Ladestraße
END:VEVENT
END:VCALENDAR
