BEGIN:VCALENDAR
VERSION:2.0
PRODID:icalendar-ruby
CALSCALE:GREGORIAN
BEGIN:VEVENT
DTSTAMP:20260420T191040Z
UID:94c2533c-375e-4074-8a10-01fbf30d80de
DTSTART:20260726T110000
DTEND:20260726T170000
DESCRIPTION:Sehr schöner Trödelmarkt beim Edeka Parkplatz\nWc + Imbiss vo
 rhanden\nSuche Eiswagen\, Olivenstand oder Ähnliches...\n \nTrödel:\n3 
 Meter 24€ inkl. 1 Kleiderständer\n4 Meter 26€ Inkl. 1 Kleiderständer
 \nTrödel Sonderpreise:\n5 Meter Trödel für NUR 30€ inkl. 1 Kleiderst
 änder jeder weitere Meter Trödel 8€\n \nNeuware:\n1 Meter 12€\nBei 
 größeren Ständen Rabatt möglich\, dazu bitte anrufen.\n \nAlle Plätz
 e mit Auto am Stand\n \nBitte Beachten: \nDer Aufbau beginnt ab 8.30Uhr 
 auf Rücksicht auf die umliegenden Anwohner!!!!\n \nJeder bekommt einen P
 latz es wird keiner nach Hause geschickt.
LOCATION:Königsberger Straße 59 31535 
SUMMARY:Trödelmarkt Neustadt am Rübenberge Edeka-Center Hanekamp TRÖDEL 
 SONDERPREISE
END:VEVENT
END:VCALENDAR
