BEGIN:VCALENDAR
VERSION:2.0
PRODID:icalendar-ruby
CALSCALE:GREGORIAN
BEGIN:VEVENT
DTSTAMP:20260423T221707Z
UID:4aeab589-ac36-4866-a5b6-5dc61bd4d204
DTSTART:20260719T060000
DTEND:20260719T160000
DESCRIPTION:Antik und Trödel Markt am Parkplatz von Kaufland 86343 Königs
 brunn Neue Ware erlaubt der laufender Meter bei Neuwarenverkauf beträgt 1
 0€ bei Floh  und Trödel 8€  Einlas ab 6 Uhr Verkauf ab 8Uhr Ende de
 r Veranstaltung 16Uhr Imbiss und Sanitäre Anlage vorhanden. 
LOCATION:Germanenstraße 16 86343 
SUMMARY:Flohmarkt Parkplatz Kaufland Königsbrunn 
END:VEVENT
END:VCALENDAR
