BEGIN:VCALENDAR
VERSION:2.0
PRODID:icalendar-ruby
CALSCALE:GREGORIAN
BEGIN:VEVENT
DTSTAMP:20260423T233929Z
UID:2ff1159e-1644-4f32-8dbf-bc2f6ff05117
DTSTART:20261003T060000
DTEND:20261003T160000
DESCRIPTION:Antik und Trödel Markt am Parkplatz von Kaufland 86343 Königs
 brunn Neue Ware erlaubt der laufender Meter bei Neuwarenverkauf beträgt 1
 0€ bei Floh  und Trödel 8€  Einlas ab 6 Uhr Verkauf ab 8Uhr Ende de
 r Veranstaltung 16Uhr Imbiss und Sanitäre Anlage vorhanden. 
LOCATION:Germanenstraße 16 86343 
SUMMARY:Flohmarkt Parkplatz Kaufland Königsbrunn 
END:VEVENT
END:VCALENDAR
