BEGIN:VCALENDAR
VERSION:2.0
PRODID:icalendar-ruby
CALSCALE:GREGORIAN
BEGIN:VEVENT
DTSTAMP:20260421T103134Z
UID:216942ff-33d9-4aa2-9f6f-21f2447250de
DTSTART:20260726T110000
DTEND:20260726T180000
DESCRIPTION:Regelmäßig stattfindender Trödelmarkt im Mönchengladbacher 
 Norden. Gerade bei schönem Wetter findet man hier viele private Ausstelle
 r welche ihre ganz persönlichen Schätze anbieten aber auch interessante 
 Neuwarenstände sind vertreten.\nNutzt die Gelegenheit Dinge die Ihr nicht
  mehr benötigt zu Geld zu machen. \nParken BesucherParkplätze (kostenlo
 s) finden Sie in der näheren Umgebung\nTeilnahme AusstellerInfos bzgl. Te
 ilnahme\, aktuelle Standmieten / Angebote sowie eine Buchungsmöglichkeit 
 findet Ihr unter \nwww.rieder-maerkte.de\nParken Aussteller / PKW am Stan
 dIn der Regel könnt Ihr im Freigelände ein Fahrzeug quer hinter dem Stan
 d parken sofern die Länge des Fahrzeuges der Standlänge entspricht (z. B
 . Golf-Größe ab 4 lfd. Metern / Kombi ab 5 lfd. Metern). Fragen Sie im Z
 weifel gerne die Marktleitung vor Ort bzw. entnehmt die Länge des Fahrzeu
 ges dem Fahrzeugschein.\nStandaufbauAb 7 Uhr - jedoch nicht vor Eintreffen
  der Marktleitung (erkennbar an der gelben Weste / rotes T-Shirt bzw. Pull
 over)\nVerkaufszeit11 bis 18 Uhr\, Abbau ab 16 Uhr möglich\nAlle Angaben 
 ohne Gewähr. \nWeitere Infos auf unserer Homepage www.rieder-maerkte.de 
 (einfach unten auf "Homepage des Veranstalters" klicken). \nAktuelles Ang
 ebot:5 Meter Trödel nur 45€(PKW am Stand)
LOCATION:Künkelstraße 88 41063 Nord
SUMMARY:HORNBACH Künkelstraße
END:VEVENT
END:VCALENDAR
