BEGIN:VCALENDAR
VERSION:2.0
PRODID:icalendar-ruby
CALSCALE:GREGORIAN
BEGIN:VEVENT
DTSTAMP:20260420T164835Z
UID:93e3c158-3b3c-485a-a77e-f0411c35a3f2
DTSTART:20260920T110000
DTEND:20260920T180000
DESCRIPTION:Ab 2025 veranstalten wir auch Flohmärkte auf dem Festplatz in 
 74219 Möckmühl.\nDer schöne Platz befindet sich an der Jagst unterhalb 
 der Stadthalle/ Jagstbrücke in zentraler Lage.\nDer Platz ist geschottert
 . Jeder kann ohne Reservierung teilnehmen. Die Standgebühren betragen 9 E
 uro pro Meter Standlänge\, das Auto kann am Stand bleiben.\nTermine 2026:
  \n\nSo\, 19.09.26:  11.00- 18.00 Uhr\, Aufbau ab 10.00 Uhr\n\nToiletten
  vorhanden\, Tankstelle\, Bäcker\, Dönerhaus\,... sind nur wenige Meter 
 entfernt.\nWie alle unsere Flohmärkte wird auch dieser sehr gut beworben.
  So z. B. durch zahlreihe Veranstaltungsplakate\, in verschiedenen Tages- 
 und Wochenzeitungen\, auf verschiedenen Flohmarkt- Veranstaltungsseiten im
  Internet (www.marktcom.de. www.krencky24.de\, www.flohmarkt.de\,...)\, au
 f unserer Homepage\, im Veranstaltungskalender der Stadt Möckmühl\, durc
 h ca. 50.000 Terminflyern\, die wir auf unseren Märkten verteilen\,... .\
 nAußerdem sind unsere Flohmärkte am Veranstaltungstag mit zahlreichen "H
 eute Flohmarkt"- Wegweisern ausgeschildet.
LOCATION:Züttlinger Straße 6 74219 
SUMMARY:Möckmühl: Festplatz (Räbiger)
END:VEVENT
END:VCALENDAR
