BEGIN:VCALENDAR
VERSION:2.0
PRODID:icalendar-ruby
CALSCALE:GREGORIAN
BEGIN:VEVENT
DTSTAMP:20260420T045830Z
UID:f31c14f3-0a5b-400f-860a-68c4b3a93dd3
DTSTART:20260711T080000
DTEND:20260711T160000
DESCRIPTION:Antik- und Trödelmarkt\, Trödelpiste\n \nStandort: Festplat
 z\, Am Ploggensee 7\, 23936 Grevesmühlen \nPreise:\n1m = 7€ Antik- und
  Trödel\nNeuware nur nach Absprache\nAufbau/Abbau:\nSa/So. ab 6.00Uhr / a
 b 16.00Uhr\nAnreise freitags ab 13:00 Uhr möglich\nKontakt: \nTel: 01522
 6108792\nE-Mail: flohmarktinformation@gmail.com\nWeb: www.trödelpiste.de
LOCATION:Am Ploggensee 7 23936 
SUMMARY:Flohmarkt\, Antik- und Trödelmarkt (GREVESMÜHLEN)
END:VEVENT
END:VCALENDAR
