BEGIN:VCALENDAR
VERSION:2.0
PRODID:icalendar-ruby
CALSCALE:GREGORIAN
BEGIN:VEVENT
DTSTAMP:20260420T140910Z
UID:588a97bd-38bf-4018-91f3-9ba068ed0a62
DTSTART:20260717T080000
DTEND:20260717T160000
DESCRIPTION:Antik- und Trödelmarkt\, Trödelpiste\n \nStandort: Volksfest
 platz Malchow\, Parkstraße\, 17213 Malchow\nPreise:\n1m/5€\, 2m/10€\,
  3m/15€\, 4-10m/27€  Antik- und Trödel\nNeuware nur nach Absprache\n
 Aufbau/Abbau:\nSa/So. ab 6.00Uhr / ab 16.00Uhr\nAnreise freitags ab 13:00 
 Uhr möglich\nKontakt: \nTel: 015226108792\nE-Mail: flohmarktinformation@
 gmail.com\nWeb: www.trödelpiste.de
LOCATION:Buchenwaldweg 3A 17213 
SUMMARY:Flohmarkt\, Antik- und Trödelmarkt (MALCHOW)
END:VEVENT
END:VCALENDAR
