BEGIN:VCALENDAR
VERSION:2.0
PRODID:icalendar-ruby
CALSCALE:GREGORIAN
BEGIN:VEVENT
DTSTAMP:20260420T134841Z
UID:fc0c12c3-43e4-4c14-902e-38f9f872d4dd
DTSTART:20260815T080000
DTEND:20260815T160000
DESCRIPTION:Antik- und Trödelmarkt\, Trödelpiste\n \nStandort: Volksfest
 platz Malchow\, Parkstraße\, 17213 Malchow\nPreise:\n1m/5€\, 2m/10€\,
  3m/15€\, 4-10m/27€  Antik- und Trödel\nNeuware nur nach Absprache\n
 Aufbau/Abbau:\nSa/So. ab 6.00Uhr / ab 16.00Uhr\nAnreise freitags ab 13:00 
 Uhr möglich\nKontakt: \nTel: 015226108792\nE-Mail: flohmarktinformation@
 gmail.com\nWeb: www.trödelpiste.de
LOCATION:Buchenwaldweg 3A 17213 
SUMMARY:Flohmarkt\, Antik- und Trödelmarkt (MALCHOW)
END:VEVENT
END:VCALENDAR
