BEGIN:VCALENDAR
VERSION:2.0
PRODID:icalendar-ruby
CALSCALE:GREGORIAN
BEGIN:VEVENT
DTSTAMP:20260420T134840Z
UID:480730e6-d008-44c7-9d94-55b23da09892
DTSTART:20260530T080000
DTEND:20260530T160000
DESCRIPTION:Antik- und Trödelmarkt\, Trödelpiste\n \nStandort: Galopp- R
 ennbahn\, Bad Doberan\nPreise:\n1m = 8€ Antik- und Trödel\nNeuware nur 
 nach Absprache\nAufbau/Abbau:\nSa/So. ab 6.00Uhr / ab 16.00Uhr\nAnreise fr
 eitags ab 13:00 Uhr möglich\nKontakt: \nTel: 015226108792\nE-Mail: flohm
 arktinformation@gmail.com\nWeb: www.trödelpiste.de
LOCATION:Dammchaussee 99 18209 
SUMMARY:Flohmarkt\, Antik- und Trödelmarkt (BAD DOBERAN)
END:VEVENT
END:VCALENDAR
