BEGIN:VCALENDAR
VERSION:2.0
PRODID:icalendar-ruby
CALSCALE:GREGORIAN
BEGIN:VEVENT
DTSTAMP:20260421T001526Z
UID:fd8764d6-92a0-4d39-968e-f313b1f0f2e1
DTSTART:20260503T060000
DTEND:20260503T160000
DESCRIPTION:Weithin bekannter und beliebter Markt in 56218 Mülheim- Kärli
 ch.\nDiesmal\, aufgrund des verkaufsoffenen Sonntags\, in der Gebrüder- P
 auken- Straße!\nPlatzvergabe ab 6.00 Uhr - KEINE eigenmächtige Belegung 
 von Standplätzen! Die Standplätze werden durch unsere Ordner vergeben! -
  keine Reservierung erforderlich - Verkauf in ganz Rheinland- Pfalz an Son
 ntagen laut Landesgesetz über Messen\, Märkte und Ausstellungen (LMAMG) 
 ab 11.00 Uhr!\nDie Zeiten für Platzvergabe und Verkauf sind unbeding zu b
 eachten. Nichtbeachtung führt zum sofortigen Ausschluss von der Veranstal
 tung.\nMindestgröße pro Stand 3 Meter - PKW kann am Stand bleiben - Spri
 nter ab 4 Meter Standgröße - LKW (über 3to) ab 6 Meter Standgröße.\nS
 tandgeld (pro laufenden Meter):Trödel/gebrauchte Sachen/Kunsthandwerk: 12
 \,-€Neuware/volksfesttypsche Ware/Textil: 20\,-€\nReinigungskaution pr
 o Stand: Trödel/gebrauchte Sachen 5\,-€\,Neuware/volksfesttypsche Ware/
 Textil: 10\,-€Die Reinigungskaution wird erstattet\, wenn der Standplatz
  gereinigt verlassen wird\, und nur am Verantstaltungstag ab 15.00 Uhr. An
 fallender Müll ist mitzunehmen.\nLebensmittel/Gastronomie nur nach vorher
 iger Absprache!\nBitte beachten: der Verkauf von Messern\, Hieb- und Stich
 waffen\, usw. ist auf allen unseren Veranstaltungen verboten!Der Verkauf v
 on E-Shishas\, Vapes und dergleichen ist verboten!\nAus Sicherheitsgründe
 n darf das Veranstaltungsgelände zwischen 8.00 Uhr und 15.30 Uhr nicht mi
 t PKW\, usw. befahren werden. Sollte eine Abreise vor 15.30 Uhr nötig sei
 n\, bitte dies VOR Aufbau dem Ordnungspersonal mitteilen!\nAnfragen / Rese
 rvierunganmeldung@fmarkt.deoder WhatsApp (0175-2849530)\nTel: 02634 665130
 0\nHinweis: auf unseren Veranstaltungen werden gelegentlich Foto- und Film
 aufnahmen für Dokumentations- und Werbezwecke gemacht. Mit Ihrem Besuch a
 uf unseren Veranstaltungen erklären Sie sich damit einverstanden\, dass A
 ufnahmen\, auf denen Sie zu erkennen sind\, ohne Vergütungsanspruch für 
 Dokumentations- und Werbezwecke verwendet und veröffentlicht werden dürf
 en.\n \n 
LOCATION:Gebrüder-Pauken-Straße  56218 Mülheim
SUMMARY:56218 Mülheim- Kärlich\, Gewerbepark\, Gebrüder- Pauken- Straße
END:VEVENT
END:VCALENDAR
