BEGIN:VCALENDAR
VERSION:2.0
PRODID:icalendar-ruby
CALSCALE:GREGORIAN
BEGIN:VEVENT
DTSTAMP:20260424T164105Z
UID:2ef8069d-20af-4a15-af2d-9b9650fb5510
DTSTART:20260912T090000
DTEND:20260912T160000
DESCRIPTION:Unser Markt findet auf einer festen Wiese statt die direkt an d
 er B 103 liegt und sehr gut von der Straße einzusehen ist.Catering\, Stro
 m\,Wasser und WC vorhanden.Besucher zahlen 1\,00 € Eintritt.Händler zah
 len bis 10m 16\,00 € am Tag.3 Tage kommen und 2 Tage zahlen.Catering is
 t abgesichert.Neuware nur nach Absprache.\nWeitere Infos auf unserer Homep
 age.
LOCATION:Meyenburger Chaussee 29 19395 
SUMMARY:ANTIK &amp\; TRÖDELMARKT PLAU AM SEE 
END:VEVENT
END:VCALENDAR
