BEGIN:VCALENDAR
VERSION:2.0
PRODID:icalendar-ruby
CALSCALE:GREGORIAN
BEGIN:VEVENT
DTSTAMP:20260423T044403Z
UID:1aca6c99-549e-4d56-97df-cb558e86a8a7
DTSTART:20260509T090000
DTEND:20260509T160000
DESCRIPTION:Wir starten in 2026\nVon9-16Uhr wieder Flohmarkt auf dem Gelän
 de des Kauflands in Mittweida (höhe KIK) Aufbau/Anreise 6.30-8.30Uhr. STA
 NDVERGABE GARANTIERT!!! KEINER WIRD AUS PLATZGRÜNDEN WIEDER WEGGEGESCHICK
 T. Auto am Stand \, Standtiefe ca. 2.50m . Der erste laufende Meter 11 Eur
 o und jeder weitere 6 Euro. 3m Tapeziertisch=23 Euro. Auto wird nicht mit 
 berechnet. Jeder kann mitmachen\, auch als Privatperson und natürlich auc
 h ohne Gewerbeschein.Anmeldung nichtt zwingend erforderlich.Kinderstände 
 bei einem 3m Bezahlstand als 4.m frei. (Mit Kind und kindergerechten Sache
 n).Wir freuen uns auf eure Teilnahme/euren Besuch. 01743888013 w.app oder 
 Anruf.
LOCATION:Sonnenstraße 7 09648 Lauenhain
SUMMARY:Flohmarkt Mittweida Kaufland 
END:VEVENT
END:VCALENDAR
