BEGIN:VCALENDAR
VERSION:2.0
PRODID:icalendar-ruby
CALSCALE:GREGORIAN
BEGIN:VEVENT
DTSTAMP:20260424T174032Z
UID:9370c92f-7589-46c8-a0cb-7fe836711f39
DTSTART:20260815T090000
DTEND:20260815T170000
DESCRIPTION:Antikes\, Kunst und Trödel- im romantischen Areal von Schloß 
 Trebsen finden die Besucher Altes\, Besonderes manchmal auch Kurioses\, Ku
 nst und viele große und kleine Schätzchen
LOCATION:Markt 3 04687 
SUMMARY:Schloß Trebsen
END:VEVENT
END:VCALENDAR
