BEGIN:VCALENDAR
VERSION:2.0
PRODID:icalendar-ruby
CALSCALE:GREGORIAN
BEGIN:VEVENT
DTSTAMP:20260424T161324Z
UID:cf1a1ffb-a073-44ad-8d7f-c64fd63ca4fa
DTSTART:20260816T090000
DTEND:20260816T170000
DESCRIPTION:Antikes\, Kunst und Trödel- im romantischen Areal von Schloß 
 Trebsen finden die Besucher Altes\, Besonderes manchmal auch Kurioses\, Ku
 nst und viele große und kleine Schätzchen
LOCATION:Markt 3 04687 
SUMMARY:Schloß Trebsen
END:VEVENT
END:VCALENDAR
