BEGIN:VCALENDAR
VERSION:2.0
PRODID:icalendar-ruby
CALSCALE:GREGORIAN
BEGIN:VEVENT
DTSTAMP:20260424T101520Z
UID:06e183fb-c630-4639-99ee-c8f08d6c6ac1
DTSTART:20260503T110000
DTEND:20260503T170000
DESCRIPTION:Sehr schöner Trödelmarkt in Bergen direkt auf dem Gelände vo
 n Edeka\, kostenlose Besucher Parkplätze\, keine Eintrittsgebühren!\n \
 nAlle Plätze mit Auto am Stand\n \nTrödel:\n3 Meter inkl.1 Kleiderstän
 der 24€\n4 Meter Inkl. 1 Kleiderständer 26€\n5 Meter inkl. 1 Kleiders
 tänder 30€ jeder weitere Meter Trödel kostet 8€\n \nJEDER kann mitm
 achen ohne Voranmeldung einfach morgens ab 7 Uhr vorbeikommen\, dann bekom
 men Sie Ihren Standplatz mit Auto zugewiesen.\n \nSuche Eiswagen oder Äh
 nliches.... \n \nNEUWARE NICHT ZUGELASSEN!!!!
LOCATION:Harburger Straße 30 29303 
SUMMARY:Bergen Trödelmarkt Edeka Center Ehlers TRÖDEL SONDERPREISE
END:VEVENT
END:VCALENDAR
