BEGIN:VCALENDAR
VERSION:2.0
PRODID:icalendar-ruby
CALSCALE:GREGORIAN
BEGIN:VEVENT
DTSTAMP:20260421T051525Z
UID:adcb3642-3dcf-4da8-aca8-70fa82099af1
DTSTART:20260607T090000
DTEND:20260607T170000
DESCRIPTION:„Antik- &amp\; Trödelmärkte“ "Festwiese Bobbau":  06766 
 Wolfen\, Siebenhausener Straße\nSA/SO 28.-29.März 2026SA/SO 02.-03.Mai 2
 026SA/SO 06.-07.Juni 2026SA/SO 29.-30.August 2026\nVerkaufszeiten:\nSa/So:
                         09-17 Uhr\n \nAufbauzeiten:\nFreitags
 :                    15.00 Uhr – 19.00 Uhr\nSa/So:        
                06-08 Uhr\n \nWichtige Info`s:1. Standtiefe für j
 eden Händler: 7m inkl. Fahrzeuge! Laufwege für Besucher: 7m!2. Händler-
 Anmeldung nur schriftlich mit Anschrift und Meterzahl (Daten s.u.)3. Bezah
 lung vor Einfahrt auf den Platz. 1Meter = nur 5 Euro\,  Mindeststandgrö
 ße : 3m x 5 = 15 Euro.\nStrom pro Tag 10 € / Tag (bitte vorher anmelden
 )\nBestellungen werden von uns bestätigt und sind damit kostenpflichtig v
 erbindlich.Bei Absage wird eine Mindestbearbeitungsgebühr von 20\,00€ e
 rhoben. (Es gilt immer ab dem Montag vor dem Markt.\n4. Es gilt: die volls
 tändigen Marktzeiten sind unbedingt einzuhalten! Früheinpacker unerwüns
 cht. Zuwiderhandlungen führen zum Ausschluss von unseren Märkten. Es gil
 t die Platz- und Marktordnung der Fuhneaue Wolfen. Offenes Feuer verboten!
  Hunde sind generell anzuleinen. Müll/Verpackungen usw. sind durch jeden 
 Händler selbst wieder mitzunehmen! Keine Entsorgungsmöglichkeit.\n \nAn
 meldung schriftlich an:SMS/WhatsApp: 0177/7994791mail: info@dacapo-agentur
 .de\n(Bitte nicht mehr unter Facebook anmelden!)Name\, VornameAnschrift\, 
 Handy\, eMailwann und wieviel m?\nStrom ?Privat/gewerblich?\nMfg Herbst (V
 eranstalter)www.dacapo-agentur.de
LOCATION:Siebenhausener Straße 9 06766 Bobbau
SUMMARY:"Antik- &amp\; Trödelmarkt" Bobbau bei Wolfen "Festwiese" \, OpenA
 ir 2 Tage 6.+7.Juni 2026
END:VEVENT
END:VCALENDAR
