BEGIN:VCALENDAR
VERSION:2.0
PRODID:icalendar-ruby
CALSCALE:GREGORIAN
BEGIN:VEVENT
DTSTAMP:20260424T174708Z
UID:123224ad-9493-4664-a10c-bc4b5aa3bddc
DTSTART:20260517T110000
DTEND:20260517T160000
DESCRIPTION:Der Mädelsflohmarkt in deiner Stadt - dein Markt für Second H
 and Frauenkleidung und Accessoires.Vintage Teile\, Second Hand Klamotten\,
  Designerkram\, Schuhe\, Schmuck\, Accessoires\, Selbstgemachtes\, ausrang
 iertes u.v.m.Besucherinfos\, Ausstellerpreise\, Standplatzbuchung &amp\; I
 nfos unter: www.maedchenklamotte.de
LOCATION:Buckower Chaussee 25-35 12277 Bezirk Tempelhof-Schöneberg
SUMMARY:OUTDOOR Mädchen Klamotte - Der Mädelsflohmarkt @Metro Berlin-Mari
 enfelde
END:VEVENT
END:VCALENDAR
