BEGIN:VCALENDAR
VERSION:2.0
PRODID:icalendar-ruby
CALSCALE:GREGORIAN
BEGIN:VEVENT
DTSTAMP:20260424T174031Z
UID:3b9a2aad-267e-475a-8a2f-6450b7b93f34
DTSTART:20260621T110000
DTEND:20260621T160000
DESCRIPTION:Der Mädelsflohmarkt in deiner Stadt - dein Markt für Second H
 and Frauenkleidung und Accessoires.Vintage Teile\, Second Hand Klamotten\,
  Designerkram\, Schuhe\, Schmuck\, Accessoires\, Selbstgemachtes\, ausrang
 iertes u.v.m.Besucherinfos\, Ausstellerpreise\, Standplatzbuchung &amp\; I
 nfos unter: www.maedchenklamotte.de
LOCATION:Buckower Chaussee 25-35 12277 Bezirk Tempelhof-Schöneberg
SUMMARY:OUTDOOR Mädchen Klamotte - Der Mädelsflohmarkt @Metro Berlin-Mari
 enfelde
END:VEVENT
END:VCALENDAR
