BEGIN:VCALENDAR
VERSION:2.0
PRODID:icalendar-ruby
CALSCALE:GREGORIAN
BEGIN:VEVENT
DTSTAMP:20260423T185317Z
UID:9327d5c8-2e83-474b-80e5-1affea1245ab
DTSTART:20260918T140000
DTEND:20260918T230000
DESCRIPTION:Das 44. Kaiser-Karl-Fest – traditionsreiches Stadtfest mit Ki
 rmes\nVom 18. bis 20. September wird die Palenberger Innenstadt wieder zur
  farbenfrohen Festmeile. Zum 44. Mal lädt das Kaiser-Karl-Fest zu einer K
 ombination aus Stadtfest und Kirmes ein\, die Spaß und Unterhaltung für
  die ganze Familie bietet.\nDas Kaiser-Karl-Fest ist Freitag und Samstag v
 on 14 Uhr bis 23 Uhr geöffnet. Am Sonntag geht es um 11 Uhr los und klin
 gt am frühen Abend um 18 Uhr aus. Aktuelle Informationen finden Sie auf
  der Facebook-Seite der Aktionsgemeinschaft Übach-Palenberg.
LOCATION:Kirchstraße 5 52531 Palenberg
SUMMARY:Kaiser-Karl-Fest 2026
END:VEVENT
END:VCALENDAR
