BEGIN:VCALENDAR
VERSION:2.0
PRODID:icalendar-ruby
CALSCALE:GREGORIAN
BEGIN:VEVENT
DTSTAMP:20260425T155531Z
UID:fb4ca8e9-e7c2-4633-b1d4-71b86c4e16ad
DTSTART:20260524T100000
DTEND:20260524T180000
DESCRIPTION:Großer traditioneller Hofflohmarkt seit über 10 Jahren – Sc
 hätze entdecken und Schnäppchen sichern!\nKommt vorbei und stöbert nach
  Herzenslust! Unser großer Hofflohmarkt lädt euch über die Pfingsttage 
 gleich drei Tage lang zum Entdecken und Stöbern ein. Mehrere Haushalte ha
 ben sich zusammengeschlossen\, um in unserem großen Hof ein kunterbuntes 
 Flohmarkt-Erlebnis zu schaffen.\nWas euch erwartet:\nEine bunte Auswahl an
  Kleidung für jedermann\, Büchern\, DVDs und Kuriositäten\nLustiges und
  Außergewöhnliches – hier gibt es so manches Unikat zu entdecken\nEine
  Verschenke-Ecke mit Dingen\, die ein neues Zuhause suchen\nJede Menge Sch
 näppchen und die Gelegenheit\, mit uns ins Gespräch zu kommen\nKommt mit
  Familie\, Freunden und guter Laune – wir freuen uns auf euch!\n \nLass
 t euch diesen besonderen Hofflohmarkt nicht entgehen – stöbern\, lachen
  und Spaß haben!\nKeine Standvergabe!!!
LOCATION:Obergasse 11 63456 Klein-Auheim
SUMMARY:3 Tage Pfingst-Hofflohmarkt
END:VEVENT
END:VCALENDAR
