BEGIN:VCALENDAR
VERSION:2.0
PRODID:icalendar-ruby
CALSCALE:GREGORIAN
BEGIN:VEVENT
DTSTAMP:20260421T210318Z
UID:45c237e2-8a44-4003-8e22-f1d8b778aaf3
DTSTART:20260607T090000
DTEND:20260607T163000
DESCRIPTION:Wo: Im Schlosspark in 36341 Lauterbach - Sickendorf\nWas: Antik
 -&amp\; Spezialmarkt\nWann 09.00 - 16.30 Uhr\nKosten: Eintritt 4\,00 €\n
 kostenfreie Parkplätze vor Ort
LOCATION:Hofstraße 14 36341 Sickendorf
SUMMARY:Schloss Sickendorf Antik- &amp\; Spezialmarkt 
END:VEVENT
END:VCALENDAR
