BEGIN:VCALENDAR
VERSION:2.0
PRODID:icalendar-ruby
CALSCALE:GREGORIAN
BEGIN:VEVENT
DTSTAMP:20260421T223813Z
UID:072a59ad-d353-4a35-ba50-9105b8086531
DTSTART:20260705T090000
DTEND:20260705T163000
DESCRIPTION:Wo: Im Schlosspark in 36341 Lauterbach - Sickendorf\nWas: Antik
 -&amp\; Spezialmarkt\nWann 09.00 - 16.30 Uhr\nKosten: Eintritt 4\,00 €\n
 kostenfreie Parkplätze vor Ort
LOCATION:Hofstraße 14 36341 Sickendorf
SUMMARY:Schloss Sickendorf Antik- &amp\; Spezialmarkt 
END:VEVENT
END:VCALENDAR
