BEGIN:VCALENDAR
VERSION:2.0
PRODID:icalendar-ruby
CALSCALE:GREGORIAN
BEGIN:VEVENT
DTSTAMP:20260421T223803Z
UID:54d39533-ad5b-4d87-b45c-d531e7036a19
DTSTART:20260906T090000
DTEND:20260906T163000
DESCRIPTION:Wo: Im Schlosspark in 36341 Lauterbach - Sickendorf\nWas: Antik
 -&amp\; Spezialmarkt\nWann 09.00 - 16.30 Uhr\nKosten: Eintritt 4\,00 €\n
 kostenfreie Parkplätze vor Ort
LOCATION:Hofstraße 14 36341 Sickendorf
SUMMARY:Schloss Sickendorf Antik- &amp\; Spezialmarkt 
END:VEVENT
END:VCALENDAR
