BEGIN:VCALENDAR
VERSION:2.0
PRODID:icalendar-ruby
CALSCALE:GREGORIAN
BEGIN:VEVENT
DTSTAMP:20260424T102304Z
UID:4d5ff89f-f137-41a4-a5d0-8819a8a45de8
DTSTART:20260809T080000
DTEND:20260809T160000
DESCRIPTION:Riesenflohmarkt auf dem Parkplatz der Firma REWE in Nürnberg B
 oxdorf.\nDieser Platz befindet sich direkt an der Lichtenfelser Straße 2a
  in Nürnberg.Komplett asphaltiert\nBushaltestelle"Moosäckerstraße"befin
 den sich direkt vor der Türe\nReservierung online oder am Vortag von 20 b
 is 21 Uhr direkt am Platzoder Sonntag früh ab 8 Uhr kommen!!!!!!!!!!!!!!!
 !!!!\nTrödel: 6 Meter mit Auto oder Anhänger 35\,00€Sie möchten einen
  kleinen Stand:Je Meter Trödel 5\,00€ Je Meter Neuware 8\,00€\nGrundg
 ebühr an Sonntags und Feiertagsmärkten pro Stand: 3 Euro\nTermindauerans
 age: 0911 - 32 96 23Bei weiteren Fragen erreichen Sie uns unterThomas: 017
 5 - 20 80 762 oder Dani: 0175 - 24 68 169\nJetzt gleich Platz sichern!!!On
 linereservierung unter:www.troedelteam-graage.de / Onlinereservierung\nLas
 st uns doch bitte unter https://www.facebook.com/troedelteam.graage/ Euer 
 Like da.
LOCATION:Lichtenfelser Straße 2 A 90427 Nordwestliche Außenstadt
SUMMARY:Flohmarkt / Trödelmarkt REWE in Nürnberg Boxdorf
END:VEVENT
END:VCALENDAR
