BEGIN:VCALENDAR
VERSION:2.0
PRODID:icalendar-ruby
CALSCALE:GREGORIAN
BEGIN:VEVENT
DTSTAMP:20260424T131036Z
UID:50f28aaa-5407-42ac-bf9c-96fde2198c6c
DTSTART:20261107T130000
DTEND:20261107T170000
DESCRIPTION:Schon seit Jahren findet mind. 2x im Jahr der beliebte secondha
 nd Modemarkt\n \n"von Frau zu Frau"\n \nin Altenberge bei Münster statt
 .\nFast Fashion ist nicht der Weg! Kauft nachhaltige\, spannende und güns
 tige Sommermode für Damen und auch teilweise für Herren.\nAm kommenden W
 ochenende in Altenberge.\nAn jedem Tag sind komplett andere Aussteller bei
  uns - es lohnt sich also 2x vorbeizukommen.\n \n \nBe Fragen oder Stand
 buchungen nur über diese Nummer: T. 0179 / 514 2119\n \nstyleloox ist NI
 CHT DER VERANSTALTER !!!!!
LOCATION:Gooiker Platz 1 48341 
SUMMARY:von Frau zu Frau - der secondhand Modemarkt in Altenberge bei Müns
 ter
END:VEVENT
END:VCALENDAR
