BEGIN:VCALENDAR
VERSION:2.0
PRODID:icalendar-ruby
CALSCALE:GREGORIAN
BEGIN:VEVENT
DTSTAMP:20260421T151544Z
UID:bb6aa004-bd94-4ee2-adab-968babfb3e9d
DTSTART:20260604T090000
DTEND:20260604T160000
DESCRIPTION:Willkommen auf unserer Marktcom Internetseite!\nSchön das Sie 
 da sind.\nAb sofort ist an diesem Standort eine Reservierung gegen Vorkass
 e möglich * Einfach um 7 Uhr kommen\n* Tische bitte mitbringen * Auto am 
 Stand * Platzvergabe am Veranstaltungstag ab 7.00 Uhr * Aufbau ab 8 Uhr * 
 Öffnungszeit: 9 - 16 Uhr\nEin wunderschöner Platz für 200 Aussteller\, 
 direkt an stark befahrener Bundesstraße B44 / Mainstraße\nNeuware ist er
 laubt!\nStandpreise: Trödel bis 4 lfd. Meter pauschal 40 €\, jeder weit
 ere Meter 10 €\nNeuware lfd. Meter 15 €.\nSonderstände wie Blumen- od
 er Obstverkauf\, Imbiss\, Eis\, usw. auf Anfrage.\nACHTUNG - BITTE BEACHTE
 N !!! Das Abstellen von Fahrzeugen und Aufbauen von Ständen am Vortag ist
  strengstens verboten!\nReinigungskaution in Höhe von 5 € wird bei Zahl
 ung des Standgeldes vor Ort fällig und wird nach Ende der Veranstaltung\,
  bei sauberem Verlassen des Platzes\, gerne zurückerstattet.\nWir freuen 
 uns auf Ihren Besuch und wünschen Ihnen viel Erfolg.\nIhre person Märkte
 \n------------------------------------------------------------------------
 -------------------------------------------------------\nVorkasse auf unse
 ren Flohmärkten zur festen Platzreservierung ist ab sofort möglich.\nLie
 be Flohmarktfans\,\nab sofort bieten wir euch die Möglichkeit\, feste Pla
 tzreservierungen per Vorkasse zu sichern – entweder bar oder per Überwe
 isung.So könnt ihr euren Standplatz bequem im Voraus sichern und entspann
 t zum Markt anreisen.\nWichtige Hinweise zur Reservierung:\nÜberweisungsr
 eservierungen sind bis spätestens 36 Stunden vor Marktbeginn möglich. Z.
 B. Findet der Markt Sonntag statt\, ist für einen Geldeingang bis Freitag
 \, 12 Uhr\, zu sorgen.Der Geldeingang muss innerhalb dieser Frist bei uns 
 verbucht sein – danach können Reservierungen per Überweisung leider ni
 cht mehr berücksichtigt werden.\nBitte beachtet: Gewünschte Meterzahl bi
 tte angeben. Bei Nichterscheinen erfolgt keine Rückerstattung.\nBankverbi
 ndung für Reservierungen: person Märkte * Finom Bank * DE84 1001 8000 08
 16 0812 65. Danke!
LOCATION:Mainstraße 135 68642 
SUMMARY:Fachmarktzentrum Bürstadt Parkplatz EDEKA Krebs/ALDI....
END:VEVENT
END:VCALENDAR
