BEGIN:VCALENDAR
VERSION:2.0
PRODID:icalendar-ruby
CALSCALE:GREGORIAN
BEGIN:VEVENT
DTSTAMP:20260420T120426Z
UID:03ad7ccd-3e48-42d3-a929-f8451aea435f
DTSTART:20270313T103000
DTEND:20270313T160000
DESCRIPTION:Modellbahnbörse Modellautobörse 55268 Nieder-Olm - Ludwig-Eck
 es-Festhalle\, Pariser Str. 151\n!! Eintritt frei !! \nWeitere Termine / 
 Standorte sowie Infos und Anmeldung für Aussteller unter www.modellbahn-g
 ebrauchtwaren.de/boersen
LOCATION:Pariser Straße 151 55268 
SUMMARY:Mainzer Modellbahnbörse Modellautobörse 55268 Nieder-Olm - Ludwig
 -Eckes-Festhalle\, Pariser Str. 151
END:VEVENT
END:VCALENDAR
