BEGIN:VCALENDAR
VERSION:2.0
PRODID:icalendar-ruby
CALSCALE:GREGORIAN
BEGIN:VEVENT
DTSTAMP:20260420T101522Z
UID:d5288e9e-f0b0-495d-8de3-1477689a2245
DTSTART:20270918T103000
DTEND:20270918T160000
DESCRIPTION:Modellbahnbörse Modellautobörse 55268 Nieder-Olm - Ludwig-Eck
 es-Festhalle\, Pariser Str. 151\n!! Eintritt frei !! \nWeitere Termine / 
 Standorte sowie Infos und Anmeldung für Aussteller unter www.modellbahn-g
 ebrauchtwaren.de/boersen
LOCATION:Pariser Straße 151 55268 
SUMMARY:Mainzer Modellbahnbörse Modellautobörse 55268 Nieder-Olm - Ludwig
 -Eckes-Festhalle\, Pariser Str. 151
END:VEVENT
END:VCALENDAR
