BEGIN:VCALENDAR
VERSION:2.0
PRODID:icalendar-ruby
CALSCALE:GREGORIAN
BEGIN:VEVENT
DTSTAMP:20260422T180125Z
UID:5d8f3079-9e52-4f49-b70a-f89e960c7b74
DTSTART:20260809T110000
DTEND:20260809T160000
DESCRIPTION:Platzvergabe ist ab 7:00 Uhr  Verkauf ab 11 Uhr\nTrödel    
         lfm        12\,00€Neuware        lfm        17\,
 00€Propaganda   lfm        22\,00 €\nKinbderdecke bis 12 Jahre\,
  max. 2x2 m\, nur eigeneSpiel-Anziehsachen  3\,00€Ab 3 m Aufbau ist der
  PKW am Stand\,\nDas Einpacken der Ware und Abbau vom Stand ist vor 15:00 
 Uhr nicht erlaubt\, bei Zuwiderhandlung droht PlatzverbotEs gibt wetterbed
 ingte Ausnahmen die aber dann bekannt gegeben werden
LOCATION:Industriestraße  56412 Industriegebiet Heiligenroth
SUMMARY:Stelllmachers Trödelmarkt in Heiligenroth\, Kaufland\, 
END:VEVENT
END:VCALENDAR
