BEGIN:VCALENDAR
VERSION:2.0
PRODID:icalendar-ruby
CALSCALE:GREGORIAN
BEGIN:VEVENT
DTSTAMP:20260425T162001Z
UID:7a74f741-7656-493a-824f-b61cc0de63cc
DTSTART:20260607T110000
DTEND:20260607T170000
DESCRIPTION:Flohmarkt auf dem Gelände Globus Simmern\nPlatzvergabe ab 6.00
  Uhr\nStandplätze ab 3m Standbreite.\nStandgebühren pro lfd. Meter € 1
 1\,00 für gebrauchte Sachen\, zuzüglich € 5\,00 Grundgebühr
LOCATION:Argenthaler Straße  55469 
SUMMARY:Flohmarkt Globus Simmern
END:VEVENT
END:VCALENDAR
