BEGIN:VCALENDAR
VERSION:2.0
PRODID:icalendar-ruby
CALSCALE:GREGORIAN
BEGIN:VEVENT
DTSTAMP:20260425T162027Z
UID:423436c8-b86e-4fae-b910-8685ecd0502b
DTSTART:20260830T110000
DTEND:20260830T170000
DESCRIPTION:Flohmarkt auf dem Gelände Globus Simmern\nPlatzvergabe ab 6.00
  Uhr\nStandplätze ab 3m Standbreite.\nStandgebühren pro lfd. Meter € 1
 1\,00 für gebrauchte Sachen\, zuzüglich € 5\,00 Grundgebühr
LOCATION:Argenthaler Straße  55469 
SUMMARY:Flohmarkt Globus Simmern
END:VEVENT
END:VCALENDAR
