BEGIN:VCALENDAR
VERSION:2.0
PRODID:icalendar-ruby
CALSCALE:GREGORIAN
BEGIN:VEVENT
DTSTAMP:20260425T162026Z
UID:dbb0b8f8-f48e-4c3b-8604-354204921184
DTSTART:20260927T110000
DTEND:20260927T170000
DESCRIPTION:Flohmarkt auf dem Gelände Globus Simmern\nPlatzvergabe ab 6.00
  Uhr\nStandplätze ab 3m Standbreite.\nStandgebühren pro lfd. Meter € 1
 1\,00 für gebrauchte Sachen\, zuzüglich € 5\,00 Grundgebühr
LOCATION:Argenthaler Straße  55469 
SUMMARY:Flohmarkt Globus Simmern
END:VEVENT
END:VCALENDAR
