BEGIN:VCALENDAR
VERSION:2.0
PRODID:icalendar-ruby
CALSCALE:GREGORIAN
BEGIN:VEVENT
DTSTAMP:20260421T234537Z
UID:7a1ea9bc-9b6f-4176-a16a-481e1e19d2b2
DTSTART:20260524T110000
DTEND:20260524T180000
DESCRIPTION:
LOCATION:Alte Brockhäger Straße  33428 
SUMMARY:Schneider\,s Trödelmärkte
END:VEVENT
END:VCALENDAR
