BEGIN:VCALENDAR
VERSION:2.0
PRODID:icalendar-ruby
CALSCALE:GREGORIAN
BEGIN:VEVENT
DTSTAMP:20260420T104838Z
UID:4bc3b280-53c1-4a72-aac4-d7bccf90f400
DTSTART:20261004T110000
DTEND:20261004T180000
DESCRIPTION:Der beliebte Trödelmarkt an der Metro Ludwigshafen bietet idea
 le Bedingungen für Trödlerinnen und Trödler aus der Region. Hier dreht 
 sich alles um echte Schätze aus vergangenen Zeiten – Neuwaren sind nich
 t zugelassen.\nÖffnungszeit11:00 bis 18:00 Uhr\nParkenauf dem Globusgelä
 nde direkt neben der Metro\nGastronomieFür das leibliche Wohl ist in ausr
 eichendem Maße gesorgt.\n \nAnfahrtMetro Ludwigshafen-OggersheimOderstra
 ße 267071 Ludwigshafen am Rhein\nBus-Linie: 72\n \nInfos für Verkäufer
 Die Zufahrt auf das Gelände ist ab 8:00 Uhr möglich. Der Aufbau beginn
 t ab 9:00 Uhr\, der Verkauf startet um 11:00 Uhr.\n \nDer Verkauf von N
 euwaren ist strengstens untersagt!\nOnline buchen können Sie bis einen T
 ag vor der Veranstaltung um 12 Uhr. \nPlatzreservierung vor Ort sonntags
  ab 6 Uhr.\n \nPKW/Transporter am StandEine Garantie für einen normalen 
 PKW am Stand gibt es ab 4 Metern Standlänge. Bei Kombis oder Transporten 
 werden mindestens 5 Meter benötigt. Bei ausreichendem Platz ist das Abste
 llen eines PKW auch schon ab 3 Metern möglich. Alternativ stehen Händler
 parkplätze zur Verfügung. 
LOCATION:Oderstraße 2 67071 Oggersheim
SUMMARY:Flohmarkt Ludwigshafen METRO
END:VEVENT
END:VCALENDAR
