BEGIN:VCALENDAR
VERSION:2.0
PRODID:icalendar-ruby
CALSCALE:GREGORIAN
BEGIN:VEVENT
DTSTAMP:20260421T093041Z
UID:00f63d8b-d388-4cc1-9ccb-6cd764f67ad1
DTSTART:20260731T170000
DTEND:20260731T210000
DESCRIPTION:Sehr großer Flohmarkt! Größter Flohmarkt in Unterfranken! Ec
 htes Highlight!\nAnfahren und Platzvergabe ab 11 Uhr! Unser Mitarbeiter is
 t vor Ort und teilt Ihnen einen Platz zu!\nStandmiete € 8\,- pro Meter\,
  Neuware pro Meter € 12\,-! Fahrzeug am Stand € 4\,-! Bezahlung vor Or
 t!\nTisch\, Stuhl\, Kleiderstange etc. bitte selbst mitbringen!\nJeder kan
 n ohne Anmeldung mitmachen! Einfach vorbeikommen! Das Gelände ist riesig!
  Jeder bekommt garantiert einen Standplatz! Der Markt findet bei jedem Wet
 ter statt!\nBis dann!\nP.S.: Bei 2-tägiger Teilnahme (Freitag und Samstag
 ) pro Meter insgesamt nur € 13\,-. Das Fahrzeug und der Stand können ü
 ber Nacht stehenbleiben.Eintägige Teilnahme ist selbstverständlich auch 
 möglich!\n \n \n \n \n \n \n \n \n \n \n \n \n \n \n \n \
 nJetzt neu: Besuche www.gerosflohmarkt.de und verkaufe kostenlos Deine Sac
 hen online!\nGerosFlohmarkt.de - Flohmärkte und kostenlose Kleinanzeigen!
LOCATION:Mainaustraße 3 97082 Zellerau
SUMMARY:Würzburg\, Mainwiese\, Riesen- Abendflohmarkt! Findet statt! Ohne 
 Anmeldung! Ohne Termin! Einfach vorbeikommen!
END:VEVENT
END:VCALENDAR
