BEGIN:VCALENDAR
VERSION:2.0
PRODID:icalendar-ruby
CALSCALE:GREGORIAN
BEGIN:VEVENT
DTSTAMP:20260419T202919Z
UID:2f08da07-a5d2-4ca4-b726-0cb280adc3ab
DTSTART:20260509T090000
DTEND:20260509T160000
DESCRIPTION:Der Flohmarkt für die Zwickauer Region 
LOCATION:Stiftstraße 6 08412 Steinpleis
SUMMARY:Flohmarkt Steinpleis 
END:VEVENT
END:VCALENDAR
