BEGIN:VCALENDAR
VERSION:2.0
PRODID:icalendar-ruby
CALSCALE:GREGORIAN
BEGIN:VEVENT
DTSTAMP:20260420T035301Z
UID:baa2531f-4959-4db5-ad83-9806566a1757
DTSTART:20260509T080000
DTEND:20260509T130000
DESCRIPTION:„Flohmarkt trifft Wochenmarkt“ kehrt 2026 nach Barsinghause
 n zurück\nDie erfolgreiche Kombination aus Wochenmarkt und Trödelmarkt g
 eht in Barsinghausen in die nächste Runde: Ab Samstag\, den 14. März 202
 6\, findet das Event „Flohmarkt trifft Wochenmarkt“ wieder regelmäßi
 g statt. Bis November können Besucherinnen und Besucher jeden zweiten Sam
 stag im Monat auf dem Europaplatz (in der Nähe des Wochenmarktes) stöber
 n\, einkaufen und das besondere Markttreiben genießen.\nVon 8 bis 13 Uhr 
 verbindet die Veranstaltung das frische Angebot des Wochenmarktes mit eine
 r Auswahl an Flohmarktständen. Neben Obst\, Gemüse\, Brot\, Käse und we
 iteren regionalen Produkten lädt der Trödelmarkt dazu ein\, nach Vintage
 -Stücken\, geschichtsreichen Schätzen oder kleinen Raritäten zu suchen.
  So entsteht eine lebendige Mischung aus Einkauf und Begegnung.\nDas Forma
 t hat sich bereits im vergangenen Jahr bewährt. Die Kombination aus Woche
 nmarkt und Flohmarkt schafft zusätzliche Anreize für einen Besuch in der
  Innenstadt und sorgt für eine besondere Atmosphäre rund um den Marktpla
 tz.\nWer mit einem eigenen Stand teilnehmen möchte\, kann sich per E-Mail
  an a.wolf@marktgilde.de oder telefonisch unter 0175 5885 106 anmelden. De
 r Aufbau beginnt ab 7 Uhr\, der Abbau erfolgt bis spätestens 14 Uhr. Die 
 Standgebühr beträgt 5 Euro pro laufendem Meter\, für PKW am Stand falle
 n zusätzlich 5 Euro an.\nTermine 2026 (jeweils am zweiten Samstag im Mona
 t):\n·        14. März\n·        11. April\n·     
    9. Mai\n·        13. Juni\n·        11. Juli\n·  
       8. August\n·        12. September\n·        10.
  Oktober\n·        14. November\n \nWeitere Informationen finden 
 Sie unter:\nbarsinghausen.treffpunkt-wochenmarkt.de oder auf Instagram unt
 er @treffpunkt_wochenmarkt.
LOCATION:Marktstraße 2 30890 
SUMMARY:Flohmarkt trifft Wochenmarkt Barsinghausen
END:VEVENT
END:VCALENDAR
