BEGIN:VCALENDAR
VERSION:2.0
PRODID:icalendar-ruby
CALSCALE:GREGORIAN
BEGIN:VEVENT
DTSTAMP:20260420T054455Z
UID:4bf466ce-29c3-4b61-9029-fc3c1e97d454
DTSTART:20260808T090000
DTEND:20260808T150000
DESCRIPTION:Start in die Flohmarktsaison in Isenbüttel\nAm Samstag\, den 1
 4. März\, startet in Isenbüttel die Flohmarktsaison. Auf dem Parkplatz v
 on Aldi am Reuteranger 4–6 heißt es zwischen 9 und 15 Uhr wieder: stöb
 ern\, feilschen und echte Schätze entdecken. Insgesamt sind in diesem Jah
 r neun Flohmarkttermine geplant\, die jeweils am zweiten Samstag im Monat 
 stattfinden:\n\n14.03.2026\n11.04.2026\n09.05.2026\n13.06.2026\n11.07.2026
 \n08.08.2026\n12.09.2026\n10.10.2026\n14.11.2026\n\nNach den ersten Verans
 taltungen im vergangenen Herbst haben Schnäppchenjägerinnen und Schnäpp
 chenjäger sowie Sammlerinnen und Sammler erneut die Gelegenheit\, auf Sch
 atzsuche zu gehen. Flohmärkte sind dabei weit mehr als nur Verkaufsplätz
 e: Sie sind Orte der Begegnung\, an denen Menschen ins Gespräch kommen\, 
 Geschichten teilen und gebrauchten Dingen eine neue Chance geben.\nWer am 
 ersten Termin verhindert ist\, hat im Laufe des Jahres noch weitere Mögli
 chkeiten: Die Flohmärkte finden jeweils am zweiten Samstag im Monat statt
 .\nAuch Verkäuferinnen und Verkäufer sind herzlich eingeladen\, mit eine
 m eigenen Stand teilzunehmen. Der Aufbau beginnt ab 8 Uhr\, der Abbau erfo
 lgt bis 16 Uhr. Die Standgebühr beträgt 5 Euro pro laufendem Meter.\nEin
 e Anmeldung ist erwünscht und erfolgt per E-Mail an a.wolf@marktgilde.de.
 \nBitte geben Sie dabei Ihren Namen\, eine Telefonnummer sowie die gewüns
 chte Standmeterzahl an. Eine spontane Teilnahme am Veranstaltungstag ist e
 benfalls möglich.\nOrt: Reuteranger 4–6\, Isenbüttel (Aldi Parkplatz\,
  sofort rechts)\nZeit: 9 – 15 Uhr (Aufbau ab 8 Uhr\, Abbau bis 16 Uhr)\n
 Standgebühr: 5 € pro Meter\nAnmeldung: a.wolf@marktgilde.de\nFragen: 01
 75 5885 106 (Mo. – Fr.\, 8 – 16 Uhr)\nMehr Infos gibt es unter www.mar
 ktgilde.events sowie auf Instagram unter @marktgilde_events.
LOCATION:Reuteranger 4-6 38550 
SUMMARY:Flohmarkt Isenbüttel
END:VEVENT
END:VCALENDAR
