BEGIN:VCALENDAR
VERSION:2.0
PRODID:icalendar-ruby
CALSCALE:GREGORIAN
BEGIN:VEVENT
DTSTAMP:20260420T054455Z
UID:bfa4d380-87c2-447c-bea7-d15aab1343c1
DTSTART:20260920T090000
DTEND:20260920T120000
DESCRIPTION:Kinderkleidung und Spielzeug kaufen\, verkaufen\, in Ruhe stöb
 ern und handeln. Bei Kaffee und Kuchen in gemütlichem Cafe entspannen. Bu
 chung online über https://tsg-bergedorf.de/die-tsg/standorte/tsg-sportzen
 trum-bult/flohmaerkte/\n 
LOCATION:Bult 8 21029 Bergedorf
SUMMARY:Kinderflohmarkt
END:VEVENT
END:VCALENDAR
