BEGIN:VCALENDAR
VERSION:2.0
PRODID:icalendar-ruby
CALSCALE:GREGORIAN
BEGIN:VEVENT
DTSTAMP:20260420T035348Z
UID:6b24d2ce-7d0e-4691-97de-eb83b1a69531
DTSTART:20261115T090000
DTEND:20261115T120000
DESCRIPTION:Kinderkleidung und Spielzeug kaufen\, verkaufen\, in Ruhe stöb
 ern und handeln. Bei Kaffee und Kuchen in gemütlichem Cafe entspannen. Bu
 chung online über https://tsg-bergedorf.de/die-tsg/standorte/tsg-sportzen
 trum-bult/flohmaerkte/\n 
LOCATION:Bult 8 21029 Bergedorf
SUMMARY:Kinderflohmarkt
END:VEVENT
END:VCALENDAR
